BEGIN:VCALENDAR
VERSION:2.0
PRODID:-//eventon.com NONSGML v1.0//EN
CALSCALE:GREGORIAN
METHOD:PUBLISH
BEGIN:VEVENT
UID:69e74aba69509
DTSTAMP:20260421T100026Z
DTSTART:20210430T080000Z
DTEND:20210430T153000Z
LOCATION:
SUMMARY:'British Magazines and Hispanic Literature: Mapping the Romantic Canon'
DESCRIPTION:'British Magazines and Hispanic Literature: Mapping the Romanti
 c Canon'\nhttps://fyl.uva.es/events/british-magazines-and-hispanic-literatu
 re-mapping-the-romantic-canon/
URL:https://fyl.uva.es/events/british-magazines-and-hispanic-literature-mapping-the-romantic-canon/
END:VEVENT
END:VCALENDAR