BEGIN:VCALENDAR
VERSION:2.0
PRODID:-//eventon.com NONSGML v1.0//EN
CALSCALE:GREGORIAN
METHOD:PUBLISH
BEGIN:VEVENT
UID:69e74ec50f6f5
DTSTAMP:20260421T101741Z
DTSTART:20211216T180000Z
DTEND:20211216T200000Z
LOCATION:
SUMMARY:EL DOCUMENTAL DEL MES: OECONOMÍA
DESCRIPTION:EL DOCUMENTAL DEL MES: OECONOMÍA\nhttps://fyl.uva.es/events/el
 -documental-del-mes-oeconomia/
URL:https://fyl.uva.es/events/el-documental-del-mes-oeconomia/
END:VEVENT
END:VCALENDAR