BEGIN:VCALENDAR
VERSION:2.0
PRODID:-//eventon.com NONSGML v1.0//EN
CALSCALE:GREGORIAN
METHOD:PUBLISH
BEGIN:VEVENT
UID:69e75dc6dfb4e
DTSTAMP:20260421T112142Z
DTSTART:20230314T180000Z
DTEND:20230314T200000Z
LOCATION:Aula Mergelina\,  edificio histórico Pza. de la Universidad
SUMMARY:Cineclub
DESCRIPTION:Cineclub\nhttps://fyl.uva.es/events/cineclub-2/
URL:https://fyl.uva.es/events/cineclub-2/
END:VEVENT
END:VCALENDAR