BEGIN:VCALENDAR
VERSION:2.0
PRODID:-//eventon.com NONSGML v1.0//EN
CALSCALE:GREGORIAN
METHOD:PUBLISH
BEGIN:VEVENT
UID:69e744959cc5f
DTSTAMP:20260421T093413Z
DTSTART:20230221T110000Z
DTEND:20230221T123000Z
LOCATION:Salón de Grados de Filosofía y Letras
SUMMARY:Eva Santos: Lo bueno es enemigo de lo genial
DESCRIPTION:Eva Santos: Lo bueno es enemigo de lo genial\nhttps://fyl.uva.e
 s/events/eva-santos-lo-bueno-es-enemigo-de-lo-genial/
URL:https://fyl.uva.es/events/eva-santos-lo-bueno-es-enemigo-de-lo-genial/
END:VEVENT
END:VCALENDAR