BEGIN:VCALENDAR
VERSION:2.0
PRODID:-//eventon.com NONSGML v1.0//EN
CALSCALE:GREGORIAN
METHOD:PUBLISH
BEGIN:VEVENT
UID:69e7c6ae48cd1
DTSTAMP:20260421T184918Z
DTSTART:20230418T090000Z
DTEND:20230424T113000Z
LOCATION:Salón de Grados de Filosofía y Letras
SUMMARY:Una mirada a través de la guerra ruso-ucraniana
DESCRIPTION:Una mirada a través de la guerra ruso-ucraniana\nhttps://fyl.u
 va.es/events/una-mirada-a-traves-de-la-guerra-ruso-ucraniana/
URL:https://fyl.uva.es/events/una-mirada-a-traves-de-la-guerra-ruso-ucraniana/
END:VEVENT
END:VCALENDAR