BEGIN:VCALENDAR
VERSION:2.0
PRODID:-//eventon.com NONSGML v1.0//EN
CALSCALE:GREGORIAN
METHOD:PUBLISH
BEGIN:VEVENT
UID:69e942f3b5a3c
DTSTAMP:20260422T215147Z
DTSTART:20231211T100000Z
DTEND:20231211T140000Z
LOCATION:
SUMMARY:XXI Jornada de Literatura y Periodismo
DESCRIPTION:XXI Jornada de Literatura y Periodismo\nhttps://fyl.uva.es/even
 ts/xxi-jornada-de-literatura-y-periodismo/
URL:https://fyl.uva.es/events/xxi-jornada-de-literatura-y-periodismo/
END:VEVENT
END:VCALENDAR