BEGIN:VCALENDAR
VERSION:2.0
PRODID:-//eventon.com NONSGML v1.0//EN
CALSCALE:GREGORIAN
METHOD:PUBLISH
BEGIN:VEVENT
UID:69eb909562145
DTSTAMP:20260424T154733Z
DTSTART:20250115T103500Z
DTEND:20250116T193500Z
LOCATION:
SUMMARY:II Congreso Internacional sobre Literatura Oral
DESCRIPTION:El Departamento de Filología Española de la Universidad de Ja
 én\,  la Cátedra de Estudios sobre la Tradición de la Universidad de Val
 ladolid y la Fundación Joaquín Díaz unen fuerzas para celebrar este cong
 reso\,  actividad final del Proyecto de I+D del Ministerio de Ciencia e Inn
 ovación “El corpus de la narrativa[..]\nhttps://fyl.uva.es/events/ii-con
 greso-internacional-sobre-literatura-oral/
URL:https://fyl.uva.es/events/ii-congreso-internacional-sobre-literatura-oral/
END:VEVENT
END:VCALENDAR